BEGIN:VCALENDAR
VERSION:2.0
PRODID:-//hacksw/handcal//NONSGML v1.0//EN
CALSCALE:GREGORIAN
BEGIN:VEVENT
SUMMARY:Graz Erzählt: Matinee der Geschichten (non verbal) für 6 - 18-Jährige
DTSTART:20260522T073000Z
LOCATION:Schauspielhaus
DTEND:20260522T084000Z
DTSTAMP:20260420T090814Z
UID:69e5d0de87f8e
END:VEVENT
END:VCALENDAR