BEGIN:VCALENDAR
VERSION:2.0
PRODID:-//hacksw/handcal//NONSGML v1.0//EN
CALSCALE:GREGORIAN
BEGIN:VEVENT
SUMMARY:FLORIAN SCHEUBA: "Schönen guten Abend"
DTSTART:20261118T183000Z
LOCATION:Theater der Komödie Graz
DTEND:20261118T203000Z
DTSTAMP:20260425T212106Z
UID:69ed1422c0d58
END:VEVENT
END:VCALENDAR