BEGIN:VCALENDAR
VERSION:2.0
PRODID:-//hacksw/handcal//NONSGML v1.0//EN
CALSCALE:GREGORIAN
BEGIN:VEVENT
SUMMARY:TIM FISCHER singt Hildegard Knef: "Na und...?"
DTSTART:20260422T173000Z
LOCATION:Theater der Komödie Graz
DTEND:20260422T193000Z
DTSTAMP:20260422T080519Z
UID:69e8651fd5d17
END:VEVENT
END:VCALENDAR