BEGIN:VCALENDAR
VERSION:2.0
PRODID:-//hacksw/handcal//NONSGML v1.0//EN
CALSCALE:GREGORIAN
BEGIN:VEVENT
SUMMARY:Robert Palfrader - Allein
DTSTART:20261124T183000Z
LOCATION:Theater der Komödie Graz
DTEND:20261124T203000Z
DTSTAMP:20260425T211818Z
UID:69ed137a7f265
END:VEVENT
END:VCALENDAR