BEGIN:VCALENDAR
VERSION:2.0
PRODID:-//hacksw/handcal//NONSGML v1.0//EN
CALSCALE:GREGORIAN
BEGIN:VEVENT
SUMMARY:Lichterkinder
DTSTART:20261208T143000Z
LOCATION:ORPHEUM
DTEND:20261208T170000Z
DTSTAMP:20260420T235402Z
UID:69e6a07a673c5
END:VEVENT
END:VCALENDAR