BEGIN:VCALENDAR
VERSION:2.0
PRODID:-//hacksw/handcal//NONSGML v1.0//EN
CALSCALE:GREGORIAN
BEGIN:VEVENT
SUMMARY:MiA.
DTSTART:20270220T190000Z
LOCATION:ORPHEUM
DTEND:20270220T220000Z
DTSTAMP:20260421T012445Z
UID:69e6b5bd89344
END:VEVENT
END:VCALENDAR