BEGIN:VCALENDAR
VERSION:2.0
PRODID:-//hacksw/handcal//NONSGML v1.0//EN
CALSCALE:GREGORIAN
BEGIN:VEVENT
SUMMARY:Schauspiel[Haus]tour
DTSTART:20260617T160000Z
LOCATION:Foyer
DTEND:20260617T173000Z
DTSTAMP:20260420T043617Z
UID:69e5912188420
END:VEVENT
END:VCALENDAR