BEGIN:VCALENDAR
VERSION:2.0
PRODID:-//hacksw/handcal//NONSGML v1.0//EN
CALSCALE:GREGORIAN
BEGIN:VEVENT
SUMMARY:Die Italienische Nacht | La Banda Italiana
DTSTART:20260711T180000Z
LOCATION:KASEMATTEN
DTEND:20260711T210000Z
DTSTAMP:20260420T235401Z
UID:69e6a079d5905
END:VEVENT
END:VCALENDAR