BEGIN:VCALENDAR
VERSION:2.0
PRODID:-//hacksw/handcal//NONSGML v1.0//EN
CALSCALE:GREGORIAN
BEGIN:VEVENT
SUMMARY:183 Abgeordnete
DTSTART:20260613T180000Z
LOCATION:Schauraum
DTEND:20260613T210000Z
DTSTAMP:20260423T121111Z
UID:69e9f03f09e55
END:VEVENT
END:VCALENDAR