BEGIN:VCALENDAR
VERSION:2.0
PRODID:-//hacksw/handcal//NONSGML v1.0//EN
CALSCALE:GREGORIAN
BEGIN:VEVENT
SUMMARY:Stermann & Grisseman | „Das Ei ist hart!“ - Loriots dramatische Werke
DTSTART:20261122T190000Z
LOCATION:ORPHEUM
DTEND:20261122T220000Z
DTSTAMP:20260420T234744Z
UID:69e69f00d2600
END:VEVENT
END:VCALENDAR