BEGIN:VCALENDAR
VERSION:2.0
PRODID:-//hacksw/handcal//NONSGML v1.0//EN
CALSCALE:GREGORIAN
BEGIN:VEVENT
SUMMARY:Discovering Morricone
DTSTART:20270110T190000Z
LOCATION:ORPHEUM
DTEND:20270110T210000Z
DTSTAMP:20260420T215327Z
UID:69e68437d002c
END:VEVENT
END:VCALENDAR