BEGIN:VCALENDAR
VERSION:2.0
PRODID:-//hacksw/handcal//NONSGML v1.0//EN
CALSCALE:GREGORIAN
BEGIN:VEVENT
SUMMARY:Fischer-Z
DTSTART:20270226T190000Z
LOCATION:ORPHEUM
DTEND:20270226T220000Z
DTSTAMP:20260420T215330Z
UID:69e6843a3b9ff
END:VEVENT
END:VCALENDAR