BEGIN:VCALENDAR
VERSION:2.0
PRODID:-//hacksw/handcal//NONSGML v1.0//EN
CALSCALE:GREGORIAN
BEGIN:VEVENT
SUMMARY:Minihorror
DTSTART:20260316T100000Z
LOCATION:Schauraum
DTEND:20260316T113000Z
DTSTAMP:20260421T112740Z
UID:69e7430c94424
END:VEVENT
END:VCALENDAR