BEGIN:VCALENDAR
VERSION:2.0
PRODID:-//hacksw/handcal//NONSGML v1.0//EN
CALSCALE:GREGORIAN
BEGIN:VEVENT
SUMMARY:Schauspiel[Haus]gemacht
DTSTART:20260605T180000Z
LOCATION:Konsole
DTEND:20260605T210000Z
DTSTAMP:20260423T012834Z
UID:69e959a225967
END:VEVENT
END:VCALENDAR