BEGIN:VCALENDAR
VERSION:2.0
PRODID:-//hacksw/handcal//NONSGML v1.0//EN
CALSCALE:GREGORIAN
BEGIN:VEVENT
SUMMARY:Schauspiel[Haus]gemacht
DTSTART:20260603T180000Z
LOCATION:Konsole
DTEND:20260603T210000Z
DTSTAMP:20260423T012458Z
UID:69e958ca96e38
END:VEVENT
END:VCALENDAR