BEGIN:VCALENDAR
VERSION:2.0
PRODID:-//hacksw/handcal//NONSGML v1.0//EN
CALSCALE:GREGORIAN
BEGIN:VEVENT
SUMMARY:Sebastian 23 | "Zusammenhaltestelle"
DTSTART:20270129T190000Z
LOCATION:ORPHEUM EXTRA
DTEND:20270129T220000Z
DTSTAMP:20260420T234743Z
UID:69e69eff21f19
END:VEVENT
END:VCALENDAR