BEGIN:VCALENDAR
VERSION:2.0
PRODID:-//hacksw/handcal//NONSGML v1.0//EN
CALSCALE:GREGORIAN
BEGIN:VEVENT
SUMMARY:Abdul Kader Chahin | "Ehrenlos"
DTSTART:20270409T180000Z
LOCATION:ORPHEUM EXTRA
DTEND:20270409T210000Z
DTSTAMP:20260420T234741Z
UID:69e69efd01391
END:VEVENT
END:VCALENDAR