BEGIN:VCALENDAR
VERSION:2.0
PRODID:-//hacksw/handcal//NONSGML v1.0//EN
CALSCALE:GREGORIAN
BEGIN:VEVENT
SUMMARY:Miss Ivanka T. | Chef*in live
DTSTART:20261125T190000Z
LOCATION:ORPHEUM EXTRA
DTEND:20261125T220000Z
DTSTAMP:20260421T012446Z
UID:69e6b5be34327
END:VEVENT
END:VCALENDAR