BEGIN:VCALENDAR
VERSION:2.0
PRODID:-//hacksw/handcal//NONSGML v1.0//EN
CALSCALE:GREGORIAN
BEGIN:VEVENT
SUMMARY:Nina FIVA Sonnenberg | "Das Herz\, ein Wolf"
DTSTART:20261011T180000Z
LOCATION:DOM IM BERG
DTEND:20261011T210000Z
DTSTAMP:20260420T234743Z
UID:69e69eff99fd1
END:VEVENT
END:VCALENDAR