BEGIN:VCALENDAR
VERSION:2.0
PRODID:-//hacksw/handcal//NONSGML v1.0//EN
CALSCALE:GREGORIAN
BEGIN:VEVENT
SUMMARY:Daniela de Santos "Weihnachten\, wie ich es mag..."
DTSTART:20261212T180000Z
LOCATION:Sonstiges
DTEND:20261212T200000Z
DTSTAMP:20260421T153915Z
UID:69e77e03e7ed9
END:VEVENT
END:VCALENDAR