BEGIN:VCALENDAR
VERSION:2.0
PRODID:-//hacksw/handcal//NONSGML v1.0//EN
CALSCALE:GREGORIAN
BEGIN:VEVENT
SUMMARY:A Room of One's Own
DTSTART:20260428T170000Z
LOCATION:Theaterhaus Graz
DTEND:20260428T190000Z
DTSTAMP:20260421T161119Z
UID:69e7858724776
END:VEVENT
END:VCALENDAR