BEGIN:VCALENDAR
VERSION:2.0
PRODID:-//hacksw/handcal//NONSGML v1.0//EN
CALSCALE:GREGORIAN
BEGIN:VEVENT
SUMMARY:A Room of One's Own
DTSTART:20260429T170000Z
LOCATION:Theaterhaus Graz
DTEND:20260429T190000Z
DTSTAMP:20260421T161109Z
UID:69e7857d2aa09
END:VEVENT
END:VCALENDAR