BEGIN:VCALENDAR
VERSION:2.0
PRODID:-//hacksw/handcal//NONSGML v1.0//EN
CALSCALE:GREGORIAN
BEGIN:VEVENT
SUMMARY:A Room of One's Own
DTSTART:20260507T170000Z
LOCATION:Theaterhaus Graz
DTEND:20260507T190000Z
DTSTAMP:20260421T160911Z
UID:69e78507531d8
END:VEVENT
END:VCALENDAR