BEGIN:VCALENDAR
VERSION:2.0
PRODID:-//hacksw/handcal//NONSGML v1.0//EN
CALSCALE:GREGORIAN
BEGIN:VEVENT
SUMMARY:Spielsamstag
DTSTART:20260425T130000Z
LOCATION:Konsole
DTEND:20260425T153000Z
DTSTAMP:20260419T203106Z
UID:69e51f6a10ad9
END:VEVENT
END:VCALENDAR