BEGIN:VCALENDAR
VERSION:2.0
PRODID:-//hacksw/handcal//NONSGML v1.0//EN
CALSCALE:GREGORIAN
BEGIN:VEVENT
SUMMARY:Erinnerung eines Mädchens
DTSTART:20260430T180000Z
LOCATION:Schauraum
DTEND:20260430T192500Z
DTSTAMP:20260424T073814Z
UID:69eb01c6da2d5
END:VEVENT
END:VCALENDAR