BEGIN:VCALENDAR
VERSION:2.0
PRODID:-//hacksw/handcal//NONSGML v1.0//EN
CALSCALE:GREGORIAN
BEGIN:VEVENT
SUMMARY:183 Abgeordnete
DTSTART:20260623T180000Z
LOCATION:Schauraum
DTEND:20260623T210000Z
DTSTAMP:20260423T121405Z
UID:69e9f0ed47bf7
END:VEVENT
END:VCALENDAR