BEGIN:VCALENDAR
VERSION:2.0
PRODID:-//hacksw/handcal//NONSGML v1.0//EN
CALSCALE:GREGORIAN
BEGIN:VEVENT
SUMMARY:183 Abgeordnete
DTSTART:20260624T180000Z
LOCATION:Schauraum
DTEND:20260624T210000Z
DTSTAMP:20260423T121358Z
UID:69e9f0e697a56
END:VEVENT
END:VCALENDAR