BEGIN:VCALENDAR
VERSION:2.0
PRODID:-//hacksw/handcal//NONSGML v1.0//EN
CALSCALE:GREGORIAN
BEGIN:VEVENT
SUMMARY:Minihorror
DTSTART:20260611T180000Z
LOCATION:Schauraum
DTEND:20260611T193000Z
DTSTAMP:20260423T133009Z
UID:69ea02c1ee7c3
END:VEVENT
END:VCALENDAR