BEGIN:VCALENDAR
VERSION:2.0
PRODID:-//hacksw/handcal//NONSGML v1.0//EN
CALSCALE:GREGORIAN
BEGIN:VEVENT
SUMMARY:Erinnerung eines Mädchens
DTSTART:20260602T180000Z
LOCATION:Schauraum
DTEND:20260602T192500Z
DTSTAMP:20260420T221859Z
UID:69e68a33be005
END:VEVENT
END:VCALENDAR