BEGIN:VCALENDAR
VERSION:2.0
PRODID:-//hacksw/handcal//NONSGML v1.0//EN
CALSCALE:GREGORIAN
BEGIN:VEVENT
SUMMARY:Erinnerung eines Mädchens
DTSTART:20260603T180000Z
LOCATION:Schauraum
DTEND:20260603T192500Z
DTSTAMP:20260420T221759Z
UID:69e689f70f564
END:VEVENT
END:VCALENDAR