BEGIN:VCALENDAR
VERSION:2.0
PRODID:-//hacksw/handcal//NONSGML v1.0//EN
CALSCALE:GREGORIAN
BEGIN:VEVENT
SUMMARY:All that Jazz
DTSTART:20260625T180000Z
LOCATION:Schauraum
DTEND:20260625T195000Z
DTSTAMP:20260421T154147Z
UID:69e77e9b71f72
END:VEVENT
END:VCALENDAR