BEGIN:VCALENDAR
VERSION:2.0
PRODID:-//hacksw/handcal//NONSGML v1.0//EN
CALSCALE:GREGORIAN
BEGIN:VEVENT
SUMMARY:183 Abgeordnete
DTSTART:20260620T180000Z
LOCATION:Schauraum
DTEND:20260620T210000Z
DTSTAMP:20260423T121805Z
UID:69e9f1ddb9da8
END:VEVENT
END:VCALENDAR