BEGIN:VCALENDAR
VERSION:2.0
PRODID:-//hacksw/handcal//NONSGML v1.0//EN
CALSCALE:GREGORIAN
BEGIN:VEVENT
SUMMARY:183 Abgeordnete
DTSTART:20260622T180000Z
LOCATION:Schauraum
DTEND:20260622T210000Z
DTSTAMP:20260423T121404Z
UID:69e9f0ecacf3c
END:VEVENT
END:VCALENDAR