BEGIN:VCALENDAR
VERSION:2.0
PRODID:-//hacksw/handcal//NONSGML v1.0//EN
CALSCALE:GREGORIAN
BEGIN:VEVENT
SUMMARY:Du hast es so gewollt
DTSTART:20260626T170000Z
LOCATION:Schauraum
DTEND:20260626T185000Z
DTSTAMP:20260424T144851Z
UID:69eb66b34cbd0
END:VEVENT
END:VCALENDAR