BEGIN:VCALENDAR
VERSION:2.0
PRODID:-//hacksw/handcal//NONSGML v1.0//EN
CALSCALE:GREGORIAN
BEGIN:VEVENT
SUMMARY:Du hast es so gewollt
DTSTART:20260627T180000Z
LOCATION:Schauraum
DTEND:20260627T190000Z
DTSTAMP:20260424T145708Z
UID:69eb68a44d34c
END:VEVENT
END:VCALENDAR