BEGIN:VCALENDAR
VERSION:2.0
PRODID:-//hacksw/handcal//NONSGML v1.0//EN
CALSCALE:GREGORIAN
BEGIN:VEVENT
SUMMARY:Schauspiel[Haus]gemacht
DTSTART:20260624T180000Z
LOCATION:Konsole
DTEND:20260624T210000Z
DTSTAMP:20260423T145539Z
UID:69ea16cbbce1d
END:VEVENT
END:VCALENDAR