BEGIN:VCALENDAR
VERSION:2.0
PRODID:-//hacksw/handcal//NONSGML v1.0//EN
CALSCALE:GREGORIAN
BEGIN:VEVENT
SUMMARY:Ellende
DTSTART:20260711T180000Z
LOCATION:DOM IM BERG
DTEND:20260711T210000Z
DTSTAMP:20260420T234744Z
UID:69e69f0023c45
END:VEVENT
END:VCALENDAR