BEGIN:VCALENDAR
VERSION:2.0
PRODID:-//hacksw/handcal//NONSGML v1.0//EN
CALSCALE:GREGORIAN
BEGIN:VEVENT
SUMMARY:"ZERFALL wa-bel-dil-di-de-o"
DTSTART:20260618T170000Z
LOCATION:Theaterhaus Graz
DTEND:20260618T180000Z
DTSTAMP:20260424T164528Z
UID:69eb82080c894
END:VEVENT
END:VCALENDAR