BEGIN:VCALENDAR
VERSION:2.0
PRODID:-//hacksw/handcal//NONSGML v1.0//EN
CALSCALE:GREGORIAN
BEGIN:VEVENT
SUMMARY:"ZERFALL wa-bel-dil-di-de-o"
DTSTART:20260619T170000Z
LOCATION:Theaterhaus Graz
DTEND:20260619T180000Z
DTSTAMP:20260424T164405Z
UID:69eb81b56385d
END:VEVENT
END:VCALENDAR